BEGIN:VCALENDAR
VERSION:2.0
PRODID:-//Magpie Auctions - ECPv6.9.1//NONSGML v1.0//EN
CALSCALE:GREGORIAN
METHOD:PUBLISH
X-ORIGINAL-URL:https://magpieauctions.co.uk
X-WR-CALDESC:Events for Magpie Auctions
REFRESH-INTERVAL;VALUE=DURATION:PT1H
X-Robots-Tag:noindex
X-PUBLISHED-TTL:PT1H
BEGIN:VTIMEZONE
TZID:Europe/London
BEGIN:DAYLIGHT
TZOFFSETFROM:+0000
TZOFFSETTO:+0100
TZNAME:BST
DTSTART:20190331T010000
END:DAYLIGHT
BEGIN:STANDARD
TZOFFSETFROM:+0100
TZOFFSETTO:+0000
TZNAME:GMT
DTSTART:20191027T010000
END:STANDARD
END:VTIMEZONE
BEGIN:VEVENT
DTSTART;TZID=Europe/London:20190921T100000
DTEND;TZID=Europe/London:20190921T170000
DTSTAMP:20260419T194118
CREATED:20180627T151130Z
LAST-MODIFIED:20190115T114952Z
UID:575-1569060000-1569085200@magpieauctions.co.uk
SUMMARY:Magpie Auctions Implements\, Machinery\, Sundries/General Items Auction
DESCRIPTION:Magpie Auctions Is Extremely Pleased To Announce We Will Be Holding A Deadstock Auction At Priddy Village Green. \nThe Auction Will Be Held On Saturday the 21st Of September 2019 From 10am. \nAddress For The Auction Is Priddy Village Green\, Priddy\, Wells\, Somerset\, BA5 3BB. \nThe Auction Will Consist Of Implements\, Machinery\, Tools\, Building Materials\, Bygones\, Garden & Household Items\, Sundries And All Other Deadstock/General Items. \nEntry Form: MAGPIE AUCTIONS ENTRY FORM PRIDDY AUCTION \nBuying: 15% Commission On The Hammer\, Capped At £500 Per Lot. \nSelling: £1.50 Per Lot Lotting Fee Which Is Non Refundable And 18% Commission On The Hammer\, Capped At £500 Per Lot. Please note any vendors with a pay out of over £300 will not be paid on the day but 3-5 working days after the auction! \nEntering Items: You Can Print Off An Entry Form And Send It To Marek\, Or You Can Get In Contact With Marek By Either Phone Or Email to Book In Your Entries. 07809294390/magpieauctions@outlook.com \nWE WILL BE TAKING ENTRIES ON THE DAY FROM 7:30AM – 9AM BUT THIS WILL BE ON A FIRST COME FIRST SERVE BASIS AND WE WONT BE ABLE TO TAKE ANY ENTRIES LATER THAN 9AM!
URL:https://magpieauctions.co.uk/auction/magpie-auctions-implements-machinery-sundries-general-items-auction/
LOCATION:Priddy Village Green\, Priddy\, Wells\, Somerset\, BA5 3BB\, United Kingdom
CATEGORIES:Implements, Machinery, Sundries/General Items Auction
ATTACH;FMTTYPE=image/jpeg:https://magpieauctions.co.uk/wp-content/uploads/2018/06/1200px-Priddy.jpg
ORGANIZER;CN="Magpie Auctions":MAILTO:magpieauctions@outlook.com
END:VEVENT
END:VCALENDAR