BEGIN:VCALENDAR
VERSION:2.0
PRODID:-//Magpie Auctions - ECPv6.9.1//NONSGML v1.0//EN
CALSCALE:GREGORIAN
METHOD:PUBLISH
X-ORIGINAL-URL:https://magpieauctions.co.uk
X-WR-CALDESC:Events for Magpie Auctions
REFRESH-INTERVAL;VALUE=DURATION:PT1H
X-Robots-Tag:noindex
X-PUBLISHED-TTL:PT1H
BEGIN:VTIMEZONE
TZID:Europe/London
BEGIN:DAYLIGHT
TZOFFSETFROM:+0000
TZOFFSETTO:+0100
TZNAME:BST
DTSTART:20190331T010000
END:DAYLIGHT
BEGIN:STANDARD
TZOFFSETFROM:+0100
TZOFFSETTO:+0000
TZNAME:GMT
DTSTART:20191027T010000
END:STANDARD
END:VTIMEZONE
BEGIN:VEVENT
DTSTART;TZID=Europe/London:20190928T100000
DTEND;TZID=Europe/London:20190928T170000
DTSTAMP:20260419T194250
CREATED:20190115T115814Z
LAST-MODIFIED:20190807T210313Z
UID:756-1569664800-1569690000@magpieauctions.co.uk
SUMMARY:Somerset Festival of Transport Show Auction
DESCRIPTION:Magpie Auctions is Extremely Pleased To Announce We Will Be Holding An Implements\, Machinery\, Bygones & General/Deadstock Auction on Saturday the 28th of September at the Somerset Festival Of Transport 2019! \nTo be held at the Frome Showground\, Bunns Lane\, Frome\, Somerset\, BA11 5ES!  \nThe auction will be outside of the show in a neighbouring field so you do not have to pay to come to the auction!  \nAuction to commence at 10:30am with entries to arrive on Friday the 27th from 12 noon and Saturday morning between 7am – 9am! You can follow the link below to print out an entry form which can be sent to us or you can bring your items along without booking them in but this will be done on a first come first serve basis! NO ENTRIES TO BE ACCEPTED AFTER 9AM ON THE MORNING IN THE AUCTION!  \nFor anymore information please contact Marek on 07809294390 or magpieauctions@outlook.com  \nClick here to download the entry form. \nBuying: 15% Commission On The Hammer\, Capped At £500 Per Lot. \nSelling: £1.50 Per Lot Lotting Fee Which Is Non Refundable And 18% Commission On The Hammer\, Capped At £500 Per Lot. Please note any vendors with a pay out of over £300 will not be paid on the day but 3-5 working days after the auction! \nEntering Items: You Can Print Off An Entry Form And Send It To Marek\, Or You Can Get In Contact With Marek By Either Phone Or Email to Book In Your Entries. 07809294390/magpieauctions@outlook.com \nWE WILL BE TAKING ENTRIES ON THE DAY FROM 7:30AM – 9AM BUT THIS WILL BE ON A FIRST COME FIRST SERVE BASIS AND WE WONT BE ABLE TO TAKE ANY ENTRIES LATER THAN 9AM!
URL:https://magpieauctions.co.uk/auction/somerset-festival-of-transport-show-auction/
LOCATION:West Woodlands Showground\, Bunns Lane\, Frome\, Somerset\, BA11 5ES\, United Kingdom
CATEGORIES:Somerset Festival of Transport Show Auction
ATTACH;FMTTYPE=image/jpeg:https://magpieauctions.co.uk/wp-content/uploads/2019/01/50112116_1863360697120084_392629116878192640_n.jpg
ORGANIZER;CN="Magpie Auctions":MAILTO:magpieauctions@outlook.com
END:VEVENT
END:VCALENDAR