BEGIN:VCALENDAR
VERSION:2.0
PRODID:-//Magpie Auctions - ECPv6.9.1//NONSGML v1.0//EN
CALSCALE:GREGORIAN
METHOD:PUBLISH
X-WR-CALNAME:Magpie Auctions
X-ORIGINAL-URL:https://magpieauctions.co.uk
X-WR-CALDESC:Events for Magpie Auctions
REFRESH-INTERVAL;VALUE=DURATION:PT1H
X-Robots-Tag:noindex
X-PUBLISHED-TTL:PT1H
BEGIN:VTIMEZONE
TZID:Europe/London
BEGIN:DAYLIGHT
TZOFFSETFROM:+0000
TZOFFSETTO:+0100
TZNAME:BST
DTSTART:20200329T010000
END:DAYLIGHT
BEGIN:STANDARD
TZOFFSETFROM:+0100
TZOFFSETTO:+0000
TZNAME:GMT
DTSTART:20201025T010000
END:STANDARD
END:VTIMEZONE
BEGIN:VEVENT
DTSTART;TZID=Europe/London:20200607T100000
DTEND;TZID=Europe/London:20200607T170000
DTSTAMP:20260420T085135
CREATED:20200302T112927Z
LAST-MODIFIED:20200602T141537Z
UID:1330-1591524000-1591549200@magpieauctions.co.uk
SUMMARY:Dodge City Auction: POSTPONED UNTIL SUNDAY 2nd OF AUGUST!
DESCRIPTION:**AUCTION POSTPONED UNTIL SUNDAY 2nd OF AUGUST** \n**REVELS AUCTION HAS MOVED TO DODGE CITY OUR NEW LOCATION** \nMagpie Auctions Poultry/Waterfowl\, Chicks/Ducklings\, Hatching Eggs\, Pets/Exotic Livestock\, Caged Birds\, Feed/Pet Items\, Plants/Fresh Produce\, Timber/Materials\, Tools\, Machinery/Implements\, Household/Garden Items And All Other Sundries/General Items Auction!  \nALL ENTRIES NOW BEING TAKEN!!! 😊👍🏻🐓🚜 \nThe Poultry/Waterfowl\, Caged Birds\, Pets/Exotic Livestock\, Chicks/ducklings\, Pet Items/Feed/Inside Deadstock\, Fresh Produce/Plants and Hatching Eggs will all be sold inside our new barn and the majority of the Dead stock/general item will be outside!  \nAuctioneer Marek will start inside the barn on the Caged Birds and then move onto the Pets/Exotic Livestock\, Then the Chicks/ducklings\, then the Pet Items/Feed/Inside Deadstock\, the the Fresh Produce/Plants and will finish on the Hatching Eggs!  \nAuctioneer Andrew will start outside on the Deadstock/General Items/Sundries at 10:15am! When Andrew Finishes the Deadstock/General Items/Sundries he will then go inside to sell the Poultry/Waterfowl!  \nThere is a brilliant food van (The Dorset Grill) selling a great variety of hot/cold food and drinks!  \nThe catalogue/list of entries will be uploaded to the website: https://magpieauctions.co.uk/auction-catalogue/ on Wednesday evening before the auction and will be updated daily after!  \nFor any information about buying or selling please contact Marek on 07809294390 or magpieauctions@outlook.com! Alternatively you can go to the website and print off an entry form and send it to us!  \nFull address for the Auction is: \nDodge City\, \nYeovil Road\, \nHalstock\, \nYeovil\, \nBA22 9RR. \nAll entries need to be in place and penned by 9am and any changes/amendments need to be with the office by 9am at the very latest!!! \nPlease don’t forget to share the event far & wide and please tell everyone you know!  \nWe look forward to seeing you all there! 👍🏻😊🐓🚜
URL:https://magpieauctions.co.uk/auction/dodge-city-auction-2/
LOCATION:Dodge City\, Yeovil Road\, Halstock\, Yeovil\, Dorset\, BA22 9RR\, United Kingdom
CATEGORIES:Dodge City,Monthly Auctions
ATTACH;FMTTYPE=image/jpeg:https://magpieauctions.co.uk/wp-content/uploads/2020/03/412C45F8-5D38-412D-A1BB-4024A6CCB05A.jpeg
ORGANIZER;CN="Magpie Auctions":MAILTO:magpieauctions@outlook.com
END:VEVENT
END:VCALENDAR