BEGIN:VCALENDAR
VERSION:2.0
PRODID:-//Magpie Auctions - ECPv6.9.1//NONSGML v1.0//EN
CALSCALE:GREGORIAN
METHOD:PUBLISH
X-WR-CALNAME:Magpie Auctions
X-ORIGINAL-URL:https://magpieauctions.co.uk
X-WR-CALDESC:Events for Magpie Auctions
REFRESH-INTERVAL;VALUE=DURATION:PT1H
X-Robots-Tag:noindex
X-PUBLISHED-TTL:PT1H
BEGIN:VTIMEZONE
TZID:Europe/London
BEGIN:DAYLIGHT
TZOFFSETFROM:+0000
TZOFFSETTO:+0100
TZNAME:BST
DTSTART:20200329T010000
END:DAYLIGHT
BEGIN:STANDARD
TZOFFSETFROM:+0100
TZOFFSETTO:+0000
TZNAME:GMT
DTSTART:20201025T010000
END:STANDARD
END:VTIMEZONE
BEGIN:VEVENT
DTSTART;TZID=Europe/London:20201018T100000
DTEND;TZID=Europe/London:20201018T170000
DTSTAMP:20260420T132816
CREATED:20200805T122047Z
LAST-MODIFIED:20201002T182824Z
UID:1422-1603015200-1603040400@magpieauctions.co.uk
SUMMARY:Dodge City Auction
DESCRIPTION:DUE TO THE AWEFUL WEATHER FORECAST THIS WEEKEND WE HAVE MOVED THE AUCTION AT  DODGE CITY FROM SUNDAY THE 4th UNTIL SUNDAY 18th!! WE APOLOGISE FOR ANY INCONVENIENCE CAUSED!! \n***COVID 19 NOTICE: UPDATED*** \n**ALL BIDDING TO BE MOVED OUTSIDE WITH ALL LIVESTOCK/INSIDE DEADSTOCK TO REMAIN INSIDE AND TO BE VIEWED BEFORE THE AUCTION STARTS! AUCTION WILL TAKE PLACE OUTSDE TO THE FRONT & REAR OF THE BARN! OUTSIDE DEADSTOCK TO START FROM 11AM!** \nPlease follow these auction Safety Guidelines. \nIf you have Covid 19\, have a temperature\, new or continuous cough\, or feel unwell\, do not attend. \nPlease keep to the social distancing.\nEveryone to follow the one way systems where in place. \nSerious buyers only to attend! \nFace masks/coverings/visors are mandatory in the barn and recommended and encouraged for extra precaution for yourselves and others when around the rest of the site. \nCarrying your own hand sanitiser/antibacterial wipes and using often is very important. \nHand sanitiser stations will be provided! \nBuyers should not touch the items unless intending to purchase! \nYou should follow the instructions of the staff on site without question! \nAuction opens from 6:30am for sellers/vendors and buyers recommended to arrive from 9am! Auction starts at 10am! \nAll livestock to be handled by the sellers and buyers only! \nStay alert. Control the virus. Save lives.*** \nUnfortunately due to pet licence costs etc we will not be selling Pets/Exotics at Dodge City this year!  Auctions next year will include pets. All Poultry/Waterfowl are still welcome. Apologies for any inconvenience this may cause! \nMagpie Auctions Poultry/Waterfowl\, Chicks/Ducklings\, Hatching Eggs\, Feed/Pet Items\, Plants/Fresh Produce\, Timber/Materials\, Tools\, Machinery/Implements\, Household/Garden Items And All Other Sundries/General Items Auction! \nPlease contact marek if you wish to enter anything as we may have to limit numbers of lots/entries and all entries need to be pre booked! No entries will be accepted on the day! 😊👍🏻🐓🚜 \nThe Poultry/Waterfowl\, Chicks/ducklings\, Pet Items/Feed/Inside Deadstock\, Fresh Produce/Plants and Hatching Eggs will remain in the barn but the auction will take place outside and the majority of the Dead stock/general item will be outside! \n***ORDER OF AUCTION*** Auctioneer Marek will start on the pet items/feed/inside Deadstock at 10am and then at 11am will go outside to start the Deadstock/Sundries! Auctioneer Andrew will start on the Chicks/Ducklings at 10:15am and then will sell them poultry/waterfowl and finish on the hatching eggs! \nThere is a brilliant food van (The Dorset Grill) selling a great variety of hot/cold food and drinks! \nThe catalogue/list of entries will be uploaded to the website: https://magpieauctions.co.uk/auction-catalogue/ on Wednesday evening before the auction and will be updated daily after! \nFor any information about buying or selling please contact Marek on 07809294390 or magpieauctions@outlook.com! Alternatively you can go to the website and print off an entry form and send it to us! \nFull address for the Auction is: \nDodge City\, \nYeovil Road\, \nHalstock\, \nYeovil\, \nBA22 9RR. \nAll entries need to be in place and penned by 8:30am and any changes/amendments need to be with the office by 8:30am at the very latest!!! We are open from 6:30am! Viewing recommended from 9am! \nAll Livestock requires water and bedding which is provided and Strictly no more than 1 cockbird/drake per cage! \nPlease don’t forget to share the event far & wide and please tell everyone you know! \nWe look forward to seeing you all there! 👍🏻😊🐓🚜
URL:https://magpieauctions.co.uk/auction/dodge-city-auction-4/
LOCATION:Dodge City\, Yeovil Road\, Halstock\, Yeovil\, Dorset\, BA22 9RR\, United Kingdom
CATEGORIES:Dodge City,Monthly Auctions
ATTACH;FMTTYPE=image/jpeg:https://magpieauctions.co.uk/wp-content/uploads/2020/06/464707F7-7A1F-4D62-A042-6B5449E58F69.jpeg
ORGANIZER;CN="Magpie Auctions":MAILTO:magpieauctions@outlook.com
END:VEVENT
END:VCALENDAR