BEGIN:VCALENDAR
VERSION:2.0
PRODID:-//Magpie Auctions - ECPv6.9.1//NONSGML v1.0//EN
CALSCALE:GREGORIAN
METHOD:PUBLISH
X-ORIGINAL-URL:https://magpieauctions.co.uk
X-WR-CALDESC:Events for Magpie Auctions
REFRESH-INTERVAL;VALUE=DURATION:PT1H
X-Robots-Tag:noindex
X-PUBLISHED-TTL:PT1H
BEGIN:VTIMEZONE
TZID:Europe/London
BEGIN:DAYLIGHT
TZOFFSETFROM:+0000
TZOFFSETTO:+0100
TZNAME:BST
DTSTART:20200329T010000
END:DAYLIGHT
BEGIN:STANDARD
TZOFFSETFROM:+0100
TZOFFSETTO:+0000
TZNAME:GMT
DTSTART:20201025T010000
END:STANDARD
END:VTIMEZONE
BEGIN:VEVENT
DTSTART;TZID=Europe/London:20201101T100000
DTEND;TZID=Europe/London:20201101T170000
DTSTAMP:20260420T145754
CREATED:20201021T181908Z
LAST-MODIFIED:20201028T140112Z
UID:1457-1604224800-1604250000@magpieauctions.co.uk
SUMMARY:Magpie Auctions Poultry/Waterfowl\, Feed\, Bygones\, Tools\, Deadstock & General Auction @ Dodge City: CANCELLED
DESCRIPTION:Due to the awful weather forecast this weekend we have decided to cancel this Sunday’s Auctions at Dodge City! Sorry any inconvenience caused!
URL:https://magpieauctions.co.uk/auction/magpie-auctions-poultry-waterfowl-feed-bygones-tools-deadstock-general-auction-dodge-city/
LOCATION:Dodge City\, Yeovil Road\, Halstock\, Yeovil\, Dorset\, BA22 9RR\, United Kingdom
CATEGORIES:Dodge City,Monthly Auctions
ATTACH;FMTTYPE=image/jpeg:https://magpieauctions.co.uk/wp-content/uploads/2020/06/464707F7-7A1F-4D62-A042-6B5449E58F69.jpeg
ORGANIZER;CN="Magpie Auctions":MAILTO:magpieauctions@outlook.com
END:VEVENT
END:VCALENDAR