BEGIN:VCALENDAR
VERSION:2.0
PRODID:-//Magpie Auctions - ECPv6.9.1//NONSGML v1.0//EN
CALSCALE:GREGORIAN
METHOD:PUBLISH
X-WR-CALNAME:Magpie Auctions
X-ORIGINAL-URL:https://magpieauctions.co.uk
X-WR-CALDESC:Events for Magpie Auctions
REFRESH-INTERVAL;VALUE=DURATION:PT1H
X-Robots-Tag:noindex
X-PUBLISHED-TTL:PT1H
BEGIN:VTIMEZONE
TZID:Europe/London
BEGIN:DAYLIGHT
TZOFFSETFROM:+0000
TZOFFSETTO:+0100
TZNAME:BST
DTSTART:20210328T010000
END:DAYLIGHT
BEGIN:STANDARD
TZOFFSETFROM:+0100
TZOFFSETTO:+0000
TZNAME:GMT
DTSTART:20211031T010000
END:STANDARD
END:VTIMEZONE
BEGIN:VEVENT
DTSTART;TZID=Europe/London:20210822T100000
DTEND;TZID=Europe/London:20210822T170000
DTSTAMP:20260421T001210
CREATED:20210709T163602Z
LAST-MODIFIED:20210722T132006Z
UID:2137-1629626400-1629651600@magpieauctions.co.uk
SUMMARY:Implements/Machinery\, Tools\, Bygones\, Sundries/General Auction @ Organford Show Ground
DESCRIPTION:Magpie Auctions is extremely pleased to announce we have been asked to hold a Deadstock Auction @ The Organford Show Ground alongside the WONKY DONK FESTIVAL on Sunday the 22nd of August from 10am!!! \nAuction to consist of Implements/Machinery\, Petrol/Power/Hand Tools\, Bygones/Collectables/Curios\, Garden/Household Related Items\, Sundries/General Items & All Other Deadstock. \nThe established WONKY DONK FESTIVAL has recently moved to the site at The Organford Show Ground and will be holding their next festival from Friday the 20th of August until Sunday the 22nd of August with the auction happening on the Sunday in a neighboring field from 10am. FREE ADMISSION INTO THE AUCTION! \nAuction to be held outside with a large star tent on hand if needed. \n\nENTERING ITEMS: Items can be pre booked by contacting us or sending an entry form. Alternatively you can turn up with your lots from 12noon – 5pm on the Saturday before the auction but no lots will be accepted on the day unless previous arrangements have been made with Marek. \nFEES: Buyers Commission: Free Registration\, 15% commission on the hammer which is capped at £500 per lot. \nSelling: £1.50 lotting fee per lot\, 18% Commission on the hammer which is capped at £500 per lot. (Please note that any sellers with a pay out of more than £300 will not be paid out on the day and will be paid within 3-5 working days after the sale unless previous arrangements have been made with Magpie Auctions.) \nFor anymore Information about buying or selling please contact Marek on 07809 294390 or email magpieauctions@outlook.com.
URL:https://magpieauctions.co.uk/auction/implements-machinery-tools-bygones-sundries-general-auction-organford-show-ground/
LOCATION:BH16 6ES\, Organford Show Ground\, Organford\, Dorset\, BH16 6ES\, United Kingdom
ATTACH;FMTTYPE=image/jpeg:https://magpieauctions.co.uk/wp-content/uploads/2021/07/20210715_142442-scaled.jpg
ORGANIZER;CN="Magpie Auctions":MAILTO:magpieauctions@outlook.com
END:VEVENT
END:VCALENDAR