BEGIN:VCALENDAR
VERSION:2.0
PRODID:-//Magpie Auctions - ECPv6.9.1//NONSGML v1.0//EN
CALSCALE:GREGORIAN
METHOD:PUBLISH
X-WR-CALNAME:Magpie Auctions
X-ORIGINAL-URL:https://magpieauctions.co.uk
X-WR-CALDESC:Events for Magpie Auctions
REFRESH-INTERVAL;VALUE=DURATION:PT1H
X-Robots-Tag:noindex
X-PUBLISHED-TTL:PT1H
BEGIN:VTIMEZONE
TZID:Europe/London
BEGIN:DAYLIGHT
TZOFFSETFROM:+0000
TZOFFSETTO:+0100
TZNAME:BST
DTSTART:20230326T010000
END:DAYLIGHT
BEGIN:STANDARD
TZOFFSETFROM:+0100
TZOFFSETTO:+0000
TZNAME:GMT
DTSTART:20231029T010000
END:STANDARD
BEGIN:DAYLIGHT
TZOFFSETFROM:+0000
TZOFFSETTO:+0100
TZNAME:BST
DTSTART:20240331T010000
END:DAYLIGHT
BEGIN:STANDARD
TZOFFSETFROM:+0100
TZOFFSETTO:+0000
TZNAME:GMT
DTSTART:20241027T010000
END:STANDARD
BEGIN:DAYLIGHT
TZOFFSETFROM:+0000
TZOFFSETTO:+0100
TZNAME:BST
DTSTART:20250330T010000
END:DAYLIGHT
BEGIN:STANDARD
TZOFFSETFROM:+0100
TZOFFSETTO:+0000
TZNAME:GMT
DTSTART:20251026T010000
END:STANDARD
END:VTIMEZONE
BEGIN:VEVENT
DTSTART;VALUE=DATE:20230507
DTEND;VALUE=DATE:20230509
DTSTAMP:20260421T071141
CREATED:20230217T100234Z
LAST-MODIFIED:20230217T101201Z
UID:3824-1683435600-1683521999@magpieauctions.co.uk
SUMMARY:NO AUCTION THIS MONTH!! Magpie Auctions Monthly Auction @ Dodge City
DESCRIPTION:NO MONTHLY AUCTION AT DODGE CITY IN MAY!!!
URL:https://magpieauctions.co.uk/auction/magpie-auctions-monthly-auction-dodge-city-ba22-9rr-2/
LOCATION:Dodge City\, Yeovil Road\, Halstock\, Yeovil\, Dorset\, BA22 9RR\, United Kingdom
CATEGORIES:Dodge City,Monthly Auctions
ATTACH;FMTTYPE=image/jpeg:https://magpieauctions.co.uk/wp-content/uploads/2021/11/FB_IMG_1611041555542.jpg
ORGANIZER;CN="Magpie Auctions":MAILTO:magpieauctions@outlook.com
END:VEVENT
BEGIN:VEVENT
DTSTART;TZID=Europe/London:20230702T100000
DTEND;TZID=Europe/London:20230702T163000
DTSTAMP:20260421T071141
CREATED:20230217T100604Z
LAST-MODIFIED:20230217T100605Z
UID:3827-1688292000-1688315400@magpieauctions.co.uk
SUMMARY:Magpie Auctions Monthly Auction @ Dodge City\, BA22 9RR!
DESCRIPTION:Auction to commence at 10am outside\, 10:30am inside & 1pm for the trailers/vehicles and to include the sale of: \n* Household/Garden Items \n* Pet food and Pet Items \n* Plants and Fresh Produce \n* Tools\, Materials\, Machinery and Implements \n* Bygones and Collectables \n* Trailers/Vehicles and Large Lots \n* All Other General Items and Sundries for Home and Garden \nThe fabulous “Dorset Grill” will be on site serving a variety of delicious hot and cold food and drink.. \nMagpie Auctions Monthly Entry Form can be found on the website and emailed to us! \n(Lots will not be accepted on day of auction and must be arrive on Saturday before the Auction) \nAuction Catalogue \nThe online catalogue will be available a week before the auction and will be updated daily as details come in. \nInformation for Buyers and Sellers \nMAGPIE AUCTIONS TERMS AND CONDITIONS \nBefore you can bid\, you’ll need to be registered. Registration is completely free\, and you can do this in person on the morning of the auction at the Registration Desk. Once this is done\, you’ll be able to apply for a buyer’s number at each auction. If you become a regular bidder\, you’ll be able to get a permanent buyer’s number. \n–Buyers Fees: 15% Buyers commission on the hammer which is capped at £500 per lot. \n–Sellers Fees: £2.00 per lot for all poultry and deadstock. £0.75 per lot for fresh produce and hatching eggs. £5 per lot for larger items sold exclusively at 1pm. 20% Commission on the hammer which is capped at £500 per lot. (Please note that any sellers with a pay out of more than £300 will not be paid out on the day and will be paid within 3-5 working days after the sale unless previous arrangements have been made with Magpie Auctions.) \nAll lots are to be in place by 8.30am on the morning of the auction. Any changes and amendments must be in with us by 6pm on the evening before the auction. Magpie Auctions reserve the right to refuse amendments on the morning. \nFor any more Information about buying or selling please contact Marek on 07809 294390 or email magpieauctions@outlook.com. \nWe look forward to seeing you then! 🙂
URL:https://magpieauctions.co.uk/auction/magpie-auctions-monthly-auction-dodge-city-ba22-9rr-3/
LOCATION:Dodge City\, Yeovil Road\, Halstock\, Yeovil\, Dorset\, BA22 9RR\, United Kingdom
CATEGORIES:Dodge City,Monthly Auctions
ATTACH;FMTTYPE=image/jpeg:https://magpieauctions.co.uk/wp-content/uploads/2021/11/FB_IMG_1611041555542.jpg
ORGANIZER;CN="Magpie Auctions":MAILTO:magpieauctions@outlook.com
END:VEVENT
BEGIN:VEVENT
DTSTART;TZID=Europe/London:20230806T100000
DTEND;TZID=Europe/London:20230806T163000
DTSTAMP:20260421T071141
CREATED:20230217T100744Z
LAST-MODIFIED:20230217T100744Z
UID:3829-1691316000-1691339400@magpieauctions.co.uk
SUMMARY:Magpie Auctions Monthly Auction @ Dodge City\, BA22 9RR!
DESCRIPTION:Auction to commence at 10am outside\, 10:30am inside & 1pm for the trailers/vehicles and to include the sale of: \n* Household/Garden Items \n* Pet food and Pet Items \n* Plants and Fresh Produce \n* Tools\, Materials\, Machinery and Implements \n* Bygones and Collectables \n* Trailers/Vehicles and Large Lots \n* All Other General Items and Sundries for Home and Garden \nThe fabulous “Dorset Grill” will be on site serving a variety of delicious hot and cold food and drink.. \nMagpie Auctions Monthly Entry Form can be found on the website and emailed to us! \n(Lots will not be accepted on day of auction and must be arrive on Saturday before the Auction) \nAuction Catalogue \nThe online catalogue will be available a week before the auction and will be updated daily as details come in. \nInformation for Buyers and Sellers \nMAGPIE AUCTIONS TERMS AND CONDITIONS \nBefore you can bid\, you’ll need to be registered. Registration is completely free\, and you can do this in person on the morning of the auction at the Registration Desk. Once this is done\, you’ll be able to apply for a buyer’s number at each auction. If you become a regular bidder\, you’ll be able to get a permanent buyer’s number. \n–Buyers Fees: 15% Buyers commission on the hammer which is capped at £500 per lot. \n–Sellers Fees: £2.00 per lot for all poultry and deadstock. £0.75 per lot for fresh produce and hatching eggs. £5 per lot for larger items sold exclusively at 1pm. 20% Commission on the hammer which is capped at £500 per lot. (Please note that any sellers with a pay out of more than £300 will not be paid out on the day and will be paid within 3-5 working days after the sale unless previous arrangements have been made with Magpie Auctions.) \nAll lots are to be in place by 8.30am on the morning of the auction. Any changes and amendments must be in with us by 6pm on the evening before the auction. Magpie Auctions reserve the right to refuse amendments on the morning. \nFor any more Information about buying or selling please contact Marek on 07809 294390 or email magpieauctions@outlook.com. \nWe look forward to seeing you then! 🙂
URL:https://magpieauctions.co.uk/auction/magpie-auctions-monthly-auction-dodge-city-ba22-9rr-4/
LOCATION:Dodge City\, Yeovil Road\, Halstock\, Yeovil\, Dorset\, BA22 9RR\, United Kingdom
CATEGORIES:Dodge City,Monthly Auctions
ATTACH;FMTTYPE=image/jpeg:https://magpieauctions.co.uk/wp-content/uploads/2021/11/FB_IMG_1611041555542.jpg
ORGANIZER;CN="Magpie Auctions":MAILTO:magpieauctions@outlook.com
END:VEVENT
BEGIN:VEVENT
DTSTART;TZID=Europe/London:20231001T100000
DTEND;TZID=Europe/London:20231001T160000
DTSTAMP:20260421T071141
CREATED:20230127T105137Z
LAST-MODIFIED:20230711T093849Z
UID:3771-1696154400-1696176000@magpieauctions.co.uk
SUMMARY:Magpie Auctions Monthly Auction @ Dodge City\, BA22 9RR!
DESCRIPTION:Auction to commence at 10am outside\, 10:30am inside & 1pm for the trailers/vehicles and to include the sale of: \n* Household/Garden Items \n* Pet food and Pet Items \n* Tools\, Materials\, Machinery and Implements \n* Bygones and Collectables \n* Trailers/Vehicles and Large Lots \n* All Other General Items and Sundries for Home and Garden \nThe fabulous “Dorset Grill” will be on site serving a variety of delicious hot and cold food and drink.. \nMagpie Auctions Monthly Entry Form can be found on the website and emailed to us! \n(Lots will not be accepted on day of auction and must be arrive on Saturday before the Auction) \nAuction Catalogue \nThe online catalogue will be available a week before the auction and will be updated daily as details come in. \nInformation for Buyers and Sellers \nMAGPIE AUCTIONS TERMS AND CONDITIONS \nBefore you can bid\, you’ll need to be registered. Registration is completely free\, and you can do this in person on the morning of the auction at the Registration Desk. Once this is done\, you’ll be able to apply for a buyer’s number at each auction. If you become a regular bidder\, you’ll be able to get a permanent buyer’s number. \n–Buyers Fees: 15% Buyers commission on the hammer which is capped at £500 per lot. \n–Sellers Fees: £2.00 per lot for all poultry and deadstock. £5 per lot for larger items sold exclusively at 1pm. 20% Commission on the hammer which is capped at £500 per lot. (Please note that any sellers with a pay out of more than £300 will not be paid out on the day and will be paid within 3-5 working days after the sale unless previous arrangements have been made with Magpie Auctions.) \nAll lots are to be in place by 8.30am on the morning of the auction. Any changes and amendments must be in with us by 6pm on the evening before the auction. Magpie Auctions reserve the right to refuse amendments on the morning. \nFor any more Information about buying or selling please contact Marek on 07809 294390 or email magpieauctions@outlook.com. \nWe look forward to seeing you then! 🙂
URL:https://magpieauctions.co.uk/auction/magpie-auctions-monthly-auction-dodge-city/
LOCATION:Dodge City\, Yeovil Road\, Halstock\, Yeovil\, Dorset\, BA22 9RR\, United Kingdom
CATEGORIES:Dodge City,Monthly Auctions
ATTACH;FMTTYPE=image/jpeg:https://magpieauctions.co.uk/wp-content/uploads/2021/11/FB_IMG_1611041555542.jpg
ORGANIZER;CN="Magpie Auctions":MAILTO:magpieauctions@outlook.com
END:VEVENT
BEGIN:VEVENT
DTSTART;TZID=Europe/London:20231105T100000
DTEND;TZID=Europe/London:20231105T163000
DTSTAMP:20260421T071141
CREATED:20230217T100935Z
LAST-MODIFIED:20231101T175158Z
UID:3831-1699178400-1699201800@magpieauctions.co.uk
SUMMARY:Magpie Auctions Monthly Auction @ Dodge City CANCELLED!!!
DESCRIPTION:AUCTION CANCELLED DUE TO VERY WET GROUND AND BAD WEATHER FORECAST! SORRY FOR ANY INCONVENIENCE CAUSED! WE WILL BE BACK ON SUNDAY 3RD OF DECEMBER FOR OUR CHRISTMAS AUCTION! SEE YOU ALL THEN! 😊👍🎄🤶
URL:https://magpieauctions.co.uk/auction/magpie-auctions-monthly-auction-dodge-city-ba22-9rr-5/
LOCATION:Dodge City\, Yeovil Road\, Halstock\, Yeovil\, Dorset\, BA22 9RR\, United Kingdom
CATEGORIES:Dodge City,Monthly Auctions
ATTACH;FMTTYPE=image/jpeg:https://magpieauctions.co.uk/wp-content/uploads/2021/11/FB_IMG_1611041555542.jpg
ORGANIZER;CN="Magpie Auctions":MAILTO:magpieauctions@outlook.com
END:VEVENT
BEGIN:VEVENT
DTSTART;TZID=Europe/London:20231203T100000
DTEND;TZID=Europe/London:20231203T170000
DTSTAMP:20260421T071141
CREATED:20211130T203056Z
LAST-MODIFIED:20231023T155313Z
UID:3026-1701597600-1701622800@magpieauctions.co.uk
SUMMARY:Christmas Auction @ Dodge City\, BA22 9RR!
DESCRIPTION:Christmas Auction at Dodge City\, BA22 9RR Sunday 3rd of December from 10am. To commence with the outside lots in the yard\, then to go inside to sell the lots in the barn   and large lots/Trailers/Vehicles at 1pm.  \nAuction to commence at 10am and to include the sale of: \n\nChristmas items and gifts\n Pet food and Pet Items\nHousehold & Garden items\n Tools\, Materials\, Machinery and Implements\n Bygones and Collectables\n All Other General Items and Sundries for Home and Garden\n\nThe fabulous “Dorset Grill” will be on site serving a variety of delicious hot and cold food and drink. \nParking on a field so please bring appropriate vehicles.  \nMagpie Auctions Monthly Entry Form\n(Lots will not be accepted on day of auction and must be arrive on Saturday before the Auction) \nAuction Catalogue \nThe online catalogue will be available in the week before the auction and will be updated daily as details come in.  \nInformation for Buyers and Sellers\nMAGPIE AUCTIONS TERMS AND CONDITIONS \nBefore you can bid\, you’ll need to be registered. Registration is completely free\, and you can do this in person on the morning of the auction at the Registration Desk. Once this is done\, you’ll be able to apply for a buyer’s number at each auction. If you become a regular bidder\, you’ll be able to get a permanent buyer’s number. \n-Buyers Fees: 15% Buyers commission on the hammer which is capped at £500 per lot. \n-Sellers Fees: £2.00 per lot for all items. £5 per lot for larger items sold exclusively at 12pm. 20% Commission on the hammer which is capped at £500 per lot. (Please note that any sellers with a pay out of more than £300 will not be paid out on the day and will be paid within 3-5 working days after the sale unless previous arrangements have been made with Magpie Auctions.) \nAny changes and amendments must be in with us by 6pm on the evening before the auction. Magpie Auctions reserve the right to refuse amendments on the morning. \nFor any more Information about buying or selling please contact Marek on 07809 294390 or email magpieauctions@outlook.com. \nWe look forward to seeing you soon! 🙂
URL:https://magpieauctions.co.uk/auction/monthly-livestock-general-auction-dodge-city-11/
LOCATION:Dodge City\, Yeovil Road\, Halstock\, Yeovil\, Dorset\, BA22 9RR\, United Kingdom
CATEGORIES:Christmas Auction,Dodge City,Monthly Auctions
ATTACH;FMTTYPE=image/jpeg:https://magpieauctions.co.uk/wp-content/uploads/2021/11/FB_IMG_1698076167382.jpg
ORGANIZER;CN="Magpie Auctions":MAILTO:magpieauctions@outlook.com
END:VEVENT
BEGIN:VEVENT
DTSTART;TZID=Europe/London:20240331T100000
DTEND;TZID=Europe/London:20240331T170000
DTSTAMP:20260421T071141
CREATED:20240110T005349Z
LAST-MODIFIED:20240325T160918Z
UID:4114-1711879200-1711904400@magpieauctions.co.uk
SUMMARY:Magpie Auctions at Dodge City: CANCELLED
DESCRIPTION:!! ***Auction CANCELLED – Sunday 31st of March 2024 @ Dodge City*** \nAuction cancelled due to bad ground conditions & awful weather due. Sorry for any  inconvenience caused!!! \nNEXT AUCTION SUNDAY 14TH OF APRIL AT WEST WOODLANDS SHOWGROUND\, FROME\, BA11 5ES FROM 10AM !!
URL:https://magpieauctions.co.uk/auction/magpie-auctions-first-auction-of-the-year-at-dodge-city-ba22-9rr/
LOCATION:Dodge City\, Yeovil Road\, Halstock\, Yeovil\, Dorset\, BA22 9RR\, United Kingdom
CATEGORIES:Dodge City
ATTACH;FMTTYPE=image/jpeg:https://magpieauctions.co.uk/wp-content/uploads/2021/11/FB_IMG_1611041555542.jpg
ORGANIZER;CN="Magpie Auctions":MAILTO:magpieauctions@outlook.com
END:VEVENT
BEGIN:VEVENT
DTSTART;TZID=Europe/London:20240707T100000
DTEND;TZID=Europe/London:20240707T170000
DTSTAMP:20260421T071141
CREATED:20240502T142403Z
LAST-MODIFIED:20240502T142404Z
UID:4185-1720346400-1720371600@magpieauctions.co.uk
SUMMARY:Dodge City Auction Sunday 7th of July 2024
DESCRIPTION:Viewing from 8am. Auction to commence at 10am outside\, 10:30am inside & 1pm for the trailers/vehicles and to include the sale of: \n* Household/Garden Items \n* Pet food and Pet Items \n* Tools\, Materials\, Machinery and Implements \n* Bygones and Collectables \n* Trailers/Vehicles and Large Lots \n* All Other General Items and Sundries for Home and Garden \nThe fabulous “Dorset Grill” will be on site serving a variety of delicious hot and cold food and drink.. \nMagpie Auctions Monthly Entry Form can be found on the website and emailed to us! \n(Lots will not be accepted on day of auction and must be arrive on Saturday before the Auction) \nAuction Catalogue \nThe online catalogue will be available a week before the auction and will be updated daily as details come in. \nInformation for Buyers and Sellers \nMAGPIE AUCTIONS TERMS AND CONDITIONS \nBefore you can bid\, you’ll need to be registered. Registration is completely free\, and you can do this in person on the morning of the auction at the Registration Desk. Once this is done\, you’ll be able to apply for a buyer’s number at each auction. \n–Buyers Fees: 15% Buyers commission on the hammer which is capped at £500 per lot. \n–Sellers Fees: £2.00 per lot for all lots. £5 per lot for larger items sold exclusively at 1pm. 20% Commission on the hammer which is capped at £500 per lot. (Please note that any sellers with a pay out of more than £300 will not be paid out on the day and will be paid within 3-5 working days after the sale unless previous arrangements have been made with Magpie Auctions.) \nAll lots are to be in place by 7.30am on the morning of the auction. Any changes and amendments must be in with us by 6pm on the evening before the auction. Magpie Auctions reserve the right to refuse amendments on the morning. \nFor any more Information about buying or selling please contact Marek on 07809 294390 or email magpieauctions@outlook.com. \nWe look forward to seeing you then! 🙂
URL:https://magpieauctions.co.uk/auction/dodge-city-auction-sunday-7th-of-july-2024/
LOCATION:Dodge City\, Yeovil Road\, Halstock\, Yeovil\, Dorset\, BA22 9RR\, United Kingdom
CATEGORIES:Dodge City,Implements, Machinery, Sundries/General Items Auction
ATTACH;FMTTYPE=image/jpeg:https://magpieauctions.co.uk/wp-content/uploads/2024/05/FB_IMG_1611041555542.jpg
ORGANIZER;CN="Magpie Auctions":MAILTO:magpieauctions@outlook.com
END:VEVENT
BEGIN:VEVENT
DTSTART;VALUE=DATE:20250406
DTEND;VALUE=DATE:20250408
DTSTAMP:20260421T071141
CREATED:20240502T143039Z
LAST-MODIFIED:20250124T155645Z
UID:4189-1743915600-1744001999@magpieauctions.co.uk
SUMMARY:Magpie Auctions @ Dodge City\, Halstock\, Yeovil\, BA22 9RR on Sunday 6th of April 2025
DESCRIPTION:Viewing from 8am. Auction to commence at 10am outside\, 10:30am inside & 1pm for the trailers/vehicles. \nAuction to include the sale of: \n\n Vintage Bygones\nCollectables and Curios\nPetrol\, Electrical & Hand Tools\nPet Food & Pet Items\nImplements and Machinery\nGarden Items\nHousehold items \nTrailers & Vehicles etc\n& So Much More!!!\n\nThe fanastic “Dorset Grill Event Catering” will be providing you with all their lovely hot and cold food/drinks they have to offer.  \nMagpie Auctions Dodge City Entry Form can be found on the website and emailed to us! \n(Lots will not be accepted on day of auction and must be arrive on Saturday before the Auction) \nWe are an Old Skool Auction meaning: NO ONLINE BIDDING!! You turn up on the day of the Auction\, Register for a buyers number\, Bid on the items you wanted (Or items you didnt want!!!!)\, Pay & take your items away there and then with you! We do accept commission bids if you are unable to stay for the duration but all lots need picking up by 5am on the day of the Auction. \nParking in the field next to the Auction so please bring appropriate vehicles! \nAuction Catalogue & Pictures \nThe online catalogue will be available in the week before the auction and will be updated daily as details come in. Pictures of Lots will be on our Facebook page in the week before the Auction as well as a live video of the Lots on the Saturday evening before the auction!  \nInformation for Buyers and Sellers \nMAGPIE AUCTIONS TERMS AND CONDITIONS \nEntry: Free  \nRegistration For Bidders Number: £1 Per Number \nBefore you can bid\, you need to be register for a bidders number. Registration is £1 and you can do this in person on the morning of the auction at the Registration Desk. You need to register for a bidders number at each Auction.  \n-Buyers Fees: 15% Buyers commission on the hammer which is capped at £500 per lot. \n-Sellers Fees: £2.00 per lot for all lots. £5 per lot for larger items sold exclusively at 1pm. 20% Commission on the hammer which is capped at £500 per lot. (Please note that any sellers with a pay out of more than £300 will not be paid out on the day and will be paid within 3-5 working days after the sale unless previous arrangements have been made with Magpie Auctions.) \nAll lots are to be in place in by 8:00am on the morning of the auction. Any changes and amendments must be in with us by 6pm on the evening before the auction. Magpie Auctions reserve the right to refuse amendments on the morning. \nFor any more Information about buying or selling please contact Marek on 07809 294390 or email magpieauctions@outlook.com \nWe look forward to seeing you soon! 🙂
URL:https://magpieauctions.co.uk/auction/dodge-city-auction-sunday-18th-of-august-2024/
LOCATION:Dodge City\, Yeovil Road\, Halstock\, Yeovil\, Dorset\, BA22 9RR\, United Kingdom
CATEGORIES:Dodge City,Implements, Machinery, Sundries/General Items Auction
ATTACH;FMTTYPE=image/jpeg:https://magpieauctions.co.uk/wp-content/uploads/2024/05/FB_IMG_1611041555542.jpg
ORGANIZER;CN="Magpie Auctions":MAILTO:magpieauctions@outlook.com
END:VEVENT
END:VCALENDAR