BEGIN:VCALENDAR
VERSION:2.0
PRODID:-//Magpie Auctions - ECPv6.9.1//NONSGML v1.0//EN
CALSCALE:GREGORIAN
METHOD:PUBLISH
X-WR-CALNAME:Magpie Auctions
X-ORIGINAL-URL:https://magpieauctions.co.uk
X-WR-CALDESC:Events for Magpie Auctions
REFRESH-INTERVAL;VALUE=DURATION:PT1H
X-Robots-Tag:noindex
X-PUBLISHED-TTL:PT1H
BEGIN:VTIMEZONE
TZID:Europe/London
BEGIN:DAYLIGHT
TZOFFSETFROM:+0000
TZOFFSETTO:+0100
TZNAME:BST
DTSTART:20220327T010000
END:DAYLIGHT
BEGIN:STANDARD
TZOFFSETFROM:+0100
TZOFFSETTO:+0000
TZNAME:GMT
DTSTART:20221030T010000
END:STANDARD
END:VTIMEZONE
BEGIN:VEVENT
DTSTART;VALUE=DATE:20221022
DTEND;VALUE=DATE:20221024
DTSTAMP:20260420T093436
CREATED:20220821T172610Z
LAST-MODIFIED:20220821T172618Z
UID:3634-1666414800-1666501199@magpieauctions.co.uk
SUMMARY:Magpie Auctions Genuine Farm Dispersal Auction
DESCRIPTION:Magpie Auctions is extremely pleased to announce that we have been instructed by 1 vendor to sell the chattels on the farm and surrounding buildings! \nAuction to consist of Machinery/Implements\, Trailers/Vehicles\, Bygones/Vintage items\, Furniture\, Pubs/Restaurants/Hotel Clearance items\, Tools\, Timber/Building Materials/Mixed Metals\, Household Items\, Numerous Gates and so much more. \nA huge variety of lots with 800-1000 expected! \nTo be held at Cucklington\, Wincanton\, Somerset\, BA9 9PZ with the full address confirmed closer the time on Saturday the 22nd Of October. Viewing day on Friday 21st of October from 10am – 5pm! \nMajority of Auction to be held inside with larger lots outside. Parking will be on a field so please bring appropriate vehicles but a tractor will be on site to pull anyone out. \nMore details to be confirmed closer to the time. Full catalogue will be uploaded the week before to the website and pictures on our social media platforms! \nPlease share and tell everyone you know!! See you all then! 😊👍🚜
URL:https://magpieauctions.co.uk/auction/magpie-auctions-genuine-farm-dispersal-auction/
LOCATION:BA99PZ\, Cucklington\, Wincanton\, Somerset\, BA99PZ\, United Kingdom
CATEGORIES:Genuine Farm Dispersal Auction
ATTACH;FMTTYPE=image/jpeg:https://magpieauctions.co.uk/wp-content/uploads/2021/10/20210925_104537-scaled.jpg
ORGANIZER;CN="Magpie Auctions":MAILTO:magpieauctions@outlook.com
END:VEVENT
END:VCALENDAR