BEGIN:VCALENDAR
VERSION:2.0
PRODID:-//Magpie Auctions - ECPv6.9.1//NONSGML v1.0//EN
CALSCALE:GREGORIAN
METHOD:PUBLISH
X-ORIGINAL-URL:https://magpieauctions.co.uk
X-WR-CALDESC:Events for Magpie Auctions
REFRESH-INTERVAL;VALUE=DURATION:PT1H
X-Robots-Tag:noindex
X-PUBLISHED-TTL:PT1H
BEGIN:VTIMEZONE
TZID:Europe/London
BEGIN:DAYLIGHT
TZOFFSETFROM:+0000
TZOFFSETTO:+0100
TZNAME:BST
DTSTART:20210328T010000
END:DAYLIGHT
BEGIN:STANDARD
TZOFFSETFROM:+0100
TZOFFSETTO:+0000
TZNAME:GMT
DTSTART:20211031T010000
END:STANDARD
END:VTIMEZONE
BEGIN:VEVENT
DTSTART;TZID=Europe/London:20210808T103000
DTEND;TZID=Europe/London:20210808T160000
DTSTAMP:20260419T212148
CREATED:20210712T110123Z
LAST-MODIFIED:20210716T201702Z
UID:2148-1628418600-1628438400@magpieauctions.co.uk
SUMMARY:Magpie Auctions Bygones/Collectables\, Tools\, Implements/Machinery & Sundries Auction @TWWAC&CF
DESCRIPTION:Magpie Auctions is extremely pleased and excited to announce that we have been asked to hold another deadstock auction along side “The West Woodlands Antiques\, Craft & Collectors Fair” on Sunday 8th of August from 10:30am. Along side a car boot sale in the afternoon & car show.\n\nAuction to consist of Vintage Bygones\, Collectables\, Curios\, Tools\, Implements\, Machinery\, Garden and some household items & More. Deadstock auction only with no Livestock. AUCTION TO BE HELD IN THE LARGE BARN SO NO MATTER THE WEATHER WE WILL BE GOING AHEAD.\n\nThe fantastic “Dorset Grill” will be providing you with all their lovely hot and cold food/drinks they have to offer.\n\nThe West Woodlands Antiques\, Craft & Collectors Fair 2021 Auction Entry Form\n\nSTILL ACCEPTING ENTRIES:\n\nLOTS CAN BE PRE BOOKED IN WITH MAGPIE AUCTIONS BEFORE THE AUCTION OR LOTS CAN BE DROPPED OFF FROM 12 NOON – 5PM SATURDAY BEFORE THE AUCTION AND FROM 7:30AM – 9AM ON THE SUNDAY MORNING OF THE AUCTION. LOTS WILL NOT BE ACCPTED ANY LATER THAN 9AM. THIS WILL BE DONE ON A FIRST COME FIRST SERVE BASIS.\n\nFor anymore information about Buying or selling please contact Marek on 07809 294390.
URL:https://magpieauctions.co.uk/auction/magpie-auctions-bygones-collectables-tools-implements-machinery-sundries-auction-twwaccf/
LOCATION:West Woodlands Showground\, Bunns Lane\, Frome\, Somerset\, BA11 5ES\, United Kingdom
CATEGORIES:Implements, Machinery, Sundries/General Items Auction,TSAC&CM Show Auction
ATTACH;FMTTYPE=image/jpeg:https://magpieauctions.co.uk/wp-content/uploads/2021/07/thumbnail_FB_IMG_16260762882811.jpg
ORGANIZER;CN="Magpie Auctions":MAILTO:magpieauctions@outlook.com
END:VEVENT
BEGIN:VEVENT
DTSTART;TZID=Europe/London:20210828T100000
DTEND;TZID=Europe/London:20210828T170000
DTSTAMP:20260419T212148
CREATED:20210628T094241Z
LAST-MODIFIED:20210813T132106Z
UID:2090-1630144800-1630170000@magpieauctions.co.uk
SUMMARY:Magpie Auctions Machinery\, Implements\, Tools\, Bygones & Sundries/General Auction @Priddy
DESCRIPTION:Magpie Auctions Is Extremely Pleased To Announce We Will Be Holding Another Deadstock Auction At Priddy Village Green. \nThe Auction Will Be Held On Saturday the 28th Of August 2021 From 10am With Larger Items/Trailers/Vehicles to be sold at 12 noon. \nAddress For The Auction Is Priddy Village Green\, Priddy\, Wells\, Somerset\, BA5 3BB. \nThe Auction Will Consist Of Implements\, Machinery\, Tools\, Building Materials\, Bygones\, Garden & Household Items\, Sundries And All Other Deadstock/General Items. \nEntry Form: Priddy-Auction-Entry-Form \nBuying: 15% Commission On The Hammer\, Capped At £500 Per Lot. \nSelling: £1.50 Per Lot Lotting Fee Which Is Non Refundable And 18% Commission On The Hammer\, Capped At £500 Per Lot. Please note any vendors with a pay out of over £300 will not be paid on the day but 3-5 working days after the auction! \nEntering Items: You Can Print Off An Entry Form And Send It To Marek\, Or You Can Get In Contact With Marek By Either Phone Or Email to Book In Your Entries. 07809294390/magpieauctions@outlook.com \nANY LOTS NOT PREBOOKED IN WE WILL BE TAKING ENTRIES FROM 1PM ON FRIDAY THE 27TH & ON THE DAY FROM 7:30AM – 9AM BUT THIS WILL BE ON A FIRST COME FIRST SERVE BASIS AND WE WONT BE ABLE TO TAKE ANY ENTRIES LATER THAN 8:30AM ON SATURDAY MORNING!
URL:https://magpieauctions.co.uk/auction/magpie-auctions-machinery-implements-tools-bygones-sundries-general-auction-priddy/
LOCATION:Priddy Village Green\, Priddy\, Wells\, Somerset\, BA5 3BB\, United Kingdom
CATEGORIES:Implements, Machinery, Sundries/General Items Auction
ATTACH;FMTTYPE=image/jpeg:https://magpieauctions.co.uk/wp-content/uploads/2021/01/received_325032825486265.jpeg
ORGANIZER;CN="Magpie Auctions":MAILTO:magpieauctions@outlook.com
END:VEVENT
END:VCALENDAR