BEGIN:VCALENDAR
VERSION:2.0
PRODID:-//Magpie Auctions - ECPv6.9.1//NONSGML v1.0//EN
CALSCALE:GREGORIAN
METHOD:PUBLISH
X-WR-CALNAME:Magpie Auctions
X-ORIGINAL-URL:https://magpieauctions.co.uk
X-WR-CALDESC:Events for Magpie Auctions
REFRESH-INTERVAL;VALUE=DURATION:PT1H
X-Robots-Tag:noindex
X-PUBLISHED-TTL:PT1H
BEGIN:VTIMEZONE
TZID:Europe/London
BEGIN:DAYLIGHT
TZOFFSETFROM:+0000
TZOFFSETTO:+0100
TZNAME:BST
DTSTART:20210328T010000
END:DAYLIGHT
BEGIN:STANDARD
TZOFFSETFROM:+0100
TZOFFSETTO:+0000
TZNAME:GMT
DTSTART:20211031T010000
END:STANDARD
END:VTIMEZONE
BEGIN:VEVENT
DTSTART;TZID=Europe/London:20210925T100000
DTEND;TZID=Europe/London:20210925T170000
DTSTAMP:20260419T194914
CREATED:20210223T174057Z
LAST-MODIFIED:20210923T131704Z
UID:1724-1632564000-1632589200@magpieauctions.co.uk
SUMMARY:Magpie Auctions Somerset Festival Of Transport Show Auction
DESCRIPTION:Magpie Auctions is extremely pleased to announce we will be holding an Implements\, Machinery\, Bygones\, Collectables\, Tools & General/Deadstock Auction on Saturday the 25th of September at the Somerset Festival Of Transport. The auction will be outside of the show in the neighbouring field so you do not have to pay to come into the auction. \nAuction to commence from 10am on Saturday the 25th September with entries to arrive on Friday 24th of September from 12 noon and between 7am – 9am on the morning of the Auction. \n**To be held at The Frome Showground\, Bunns Lane\, Frome\, Somerset\, BA11 5ES.** \nYou can go to the website and print and post the entry form to us or you can bring your items without pre booking them but this will be done on a first come first serve basis. \nEntry Form: Somerset-Festival-of-Transport-Entry-Form 2021 \nFEES: Buyers Commission: Free Registration\, 15% commission on the hammer which is capped at £500 per lot. \nSelling: £1.50 lotting fee per lot\, 18% Commission on the hammer which is capped at £500 per lot. (Please note that any sellers with a pay out of more than £300 will not be paid out on the day and will be paid within 3-5 working days after the sale unless previous arrangements have been made with Magpie Auctions.) \nFor anymore information please go to the website: www.magpieauctions.co.uk or contact Marek on 07809294390 or magpieauctions@outlook.com 🙂👍🚜
URL:https://magpieauctions.co.uk/auction/magpie-auctions-somerset-festival-of-transport-show-auction/
LOCATION:West Woodlands Showground\, Bunns Lane\, Frome\, Somerset\, BA11 5ES\, United Kingdom
CATEGORIES:Implements, Machinery, Sundries/General Items Auction,Somerset Festival of Transport Show Auction
ATTACH;FMTTYPE=image/jpeg:https://magpieauctions.co.uk/wp-content/uploads/2021/02/FB_IMG_1614027851928-1.jpg
ORGANIZER;CN="Magpie Auctions":MAILTO:magpieauctions@outlook.com
END:VEVENT
END:VCALENDAR