BEGIN:VCALENDAR
VERSION:2.0
PRODID:-//Magpie Auctions - ECPv6.9.1//NONSGML v1.0//EN
CALSCALE:GREGORIAN
METHOD:PUBLISH
X-ORIGINAL-URL:https://magpieauctions.co.uk
X-WR-CALDESC:Events for Magpie Auctions
REFRESH-INTERVAL;VALUE=DURATION:PT1H
X-Robots-Tag:noindex
X-PUBLISHED-TTL:PT1H
BEGIN:VTIMEZONE
TZID:Europe/London
BEGIN:DAYLIGHT
TZOFFSETFROM:+0000
TZOFFSETTO:+0100
TZNAME:BST
DTSTART:20220327T010000
END:DAYLIGHT
BEGIN:STANDARD
TZOFFSETFROM:+0100
TZOFFSETTO:+0000
TZNAME:GMT
DTSTART:20221030T010000
END:STANDARD
END:VTIMEZONE
BEGIN:VEVENT
DTSTART;TZID=Europe/London:20220410T100000
DTEND;TZID=Europe/London:20220410T170000
DTSTAMP:20260420T183655
CREATED:20211130T225100Z
LAST-MODIFIED:20220405T204357Z
UID:3033-1649584800-1649610000@magpieauctions.co.uk
SUMMARY:Tools\, Machinery\, Implements & Deadstock/Liquidation Auction @ The Frome Showground
DESCRIPTION:Auction to commence at 10am and to include the sale of: \n*Petrol/Power/Hand Tools \n*Machinery and Implements \n*Building Material/Plumbing & Electrical items \n*Trailers \n*Liquidation Stock \n*Garden and Household Items and More!! \nThe fabulous “Dorset Grill” will be on site serving a variety of delicious hot and cold food and drink.. \nEntries now closed! \nAuction Catalogue \nThe online catalogue will be available a week before the auction and will be updated daily as details come in. \nInformation for Buyers and Sellers\nMAGPIE AUCTIONS TERMS AND CONDITIONS \nBefore you can bid\, you’ll need to be registered. Registration is completely free\, and you can do this in person on the morning of the auction at the Registration Desk. Once this is done\, you’ll be able to apply for a buyer’s number at each auction. If you become a regular bidder\, you’ll be able to get a permanent buyer’s number. \n-Buyers Fees: 15% Buyers commission on the hammer which is capped at £500 per lot. \n-Sellers Fees: £1.50 per lot for all poultry and deadstock. £0.50 per lot for fresh produce and hatching eggs. £5 per lot for larger items sold exclusively at 12pm. 18% Commission on the hammer which is capped at £500 per lot. (Please note that any sellers with a pay out of more than £300 will not be paid out on the day and will be paid within 3-5 working days after the sale unless previous arrangements have been made with Magpie Auctions.) \nAll lots are to be in place in by 8am on the morning of the auction. Any changes and amendments must be in with us by 6pm on the evening before the auction. Magpie Auctions reserve the right to refuse amendments on the morning. \nFor any more Information about buying or selling please contact Marek on 07809 294390 or email magpieauctions@outlook.com. \nWe look forward to seeing you soon! 🙂
URL:https://magpieauctions.co.uk/auction/3033/
LOCATION:West Woodlands Showground\, Bunns Lane\, Frome\, Somerset\, BA11 5ES\, United Kingdom
CATEGORIES:Liquidation, Machinery, Tools & General/Deadstock Auction
ATTACH;FMTTYPE=image/jpeg:https://magpieauctions.co.uk/wp-content/uploads/2021/11/thumbnail_FB_IMG_16260762882811.jpg
ORGANIZER;CN="Magpie Auctions":MAILTO:magpieauctions@outlook.com
END:VEVENT
END:VCALENDAR