BEGIN:VCALENDAR
VERSION:2.0
PRODID:-//Magpie Auctions - ECPv6.9.1//NONSGML v1.0//EN
CALSCALE:GREGORIAN
METHOD:PUBLISH
X-WR-CALNAME:Magpie Auctions
X-ORIGINAL-URL:https://magpieauctions.co.uk
X-WR-CALDESC:Events for Magpie Auctions
REFRESH-INTERVAL;VALUE=DURATION:PT1H
X-Robots-Tag:noindex
X-PUBLISHED-TTL:PT1H
BEGIN:VTIMEZONE
TZID:Europe/London
BEGIN:DAYLIGHT
TZOFFSETFROM:+0000
TZOFFSETTO:+0100
TZNAME:BST
DTSTART:20210328T010000
END:DAYLIGHT
BEGIN:STANDARD
TZOFFSETFROM:+0100
TZOFFSETTO:+0000
TZNAME:GMT
DTSTART:20211031T010000
END:STANDARD
END:VTIMEZONE
BEGIN:VEVENT
DTSTART;TZID=Europe/London:20211205T100000
DTEND;TZID=Europe/London:20211205T170000
DTSTAMP:20260419T194122
CREATED:20210326T191306Z
LAST-MODIFIED:20211125T203150Z
UID:1784-1638698400-1638723600@magpieauctions.co.uk
SUMMARY:Magpie Auctions ANNUAL CHRISTMAS AUCTION @ Dodge City
DESCRIPTION:WE HO-HO-HOPE YOU CAN JOIN US FOR A JOLLY TIME & A MINCE PIE AT OUR INDOOR CHRISTMAS DEADSTOCK/GENERAL AUCTION! \nAuction to consist of  Inside Deadstock\, Bygones/Collectables\, Christmas items/gifts\, Household Items And Other Sundries/General Items. \nTo commence from 10am. \n* PLEASE NOTE – NO POULTRY/LIVESTOCK DUE TO CURRENT GOVERNMENT RESTRICTIONS* \nThe fabulous “The Dorset Grill” will be on site serving an array of quality hot/cold food and drink. \nEntry Form: MAGPIE-AUCTIONS-ENTRY-FORM \nFEES: Buyers Commission: Free Registration\, 15% commission on the hammer which is capped at £500 per lot. \nSelling: £1.50 lotting fee per lot\, 18% Commission on the hammer which is capped at £500 per lot. (Please note that any sellers with a pay out of more than £300 will not be paid out on the day and will be paid within 3-5 working days after the sale unless previous arrangements have been made with Magpie Auctions.) \nFor anymore Information about buying or selling please contact Marek on 07809 294390 or email magpieauctions@outlook.com.
URL:https://magpieauctions.co.uk/auction/dodge-city-monthly-auction-2-2-2-2-2-2-2/
LOCATION:Dodge City\, Yeovil Road\, Halstock\, Yeovil\, Dorset\, BA22 9RR\, United Kingdom
CATEGORIES:Dodge City,Monthly Auctions
ATTACH;FMTTYPE=image/jpeg:https://magpieauctions.co.uk/wp-content/uploads/2021/01/FB_IMG_1611041555542.jpg
ORGANIZER;CN="Magpie Auctions":MAILTO:magpieauctions@outlook.com
END:VEVENT
END:VCALENDAR