BEGIN:VCALENDAR
VERSION:2.0
PRODID:-//Magpie Auctions - ECPv6.9.1//NONSGML v1.0//EN
CALSCALE:GREGORIAN
METHOD:PUBLISH
X-WR-CALNAME:Magpie Auctions
X-ORIGINAL-URL:https://magpieauctions.co.uk
X-WR-CALDESC:Events for Magpie Auctions
REFRESH-INTERVAL;VALUE=DURATION:PT1H
X-Robots-Tag:noindex
X-PUBLISHED-TTL:PT1H
BEGIN:VTIMEZONE
TZID:Europe/London
BEGIN:DAYLIGHT
TZOFFSETFROM:+0000
TZOFFSETTO:+0100
TZNAME:BST
DTSTART:20210328T010000
END:DAYLIGHT
BEGIN:STANDARD
TZOFFSETFROM:+0100
TZOFFSETTO:+0000
TZNAME:GMT
DTSTART:20211031T010000
END:STANDARD
END:VTIMEZONE
BEGIN:VEVENT
DTSTART;TZID=Europe/London:20210905T100000
DTEND;TZID=Europe/London:20210905T170000
DTSTAMP:20260420T020753
CREATED:20210326T191306Z
LAST-MODIFIED:20210709T164138Z
UID:1775-1630836000-1630861200@magpieauctions.co.uk
SUMMARY:Magpie Auctions Monthly Auction @ Dodge City
DESCRIPTION:Magpie Auctions Poultry/Waterfowl\, Chicks/Ducklings\, Hatching Eggs\, Feed/Pet Items\, Plants/Fresh Produce\, Timber/Materials\, Tools\, Machinery/Implements\, Bygones/Collectables\, Household/Garden Items And All Other Sundries/General Items Auction! \nAuctioneer Marek will start on the Outside Deadstock at 10am and then at 10:15am Auctioneer Andrew will start on the Poultry/Waterfowl/Other Livestock in the barn and finish on the hatching eggs! VIEWING ONLY ON THE MORNING OF THE AUCTION FROM 8AM\, WE ARE CLOSED THE REST OF THE MONTH! \nThe fantastic “Dorset Grill” will be providing you with lovely hot and cold food and drinks they have on offer. \nCatalogue/List of entries to be updated to the website in the week before the auction and to be updated daily and finally on Saturday evening before the auction. Printed catalogue can be purchased at the registration desk. \nEntry Form: MAGPIE-AUCTIONS-ENTRY-FORM \nEntry deadline 25th July 2021\, ALL LOTS TO BE PRE-BOOKED & NO ENTRIES ACCEPTED ON  THE DAY. \nFEES: Buyers Commission: Free Registration\, 15% commission on the hammer which is capped at £500 per lot. \nSelling: £1.50 lotting fee per lot\, 18% Commission on the hammer which is capped at £500 per lot. (Please note that any sellers with a pay out of more than £300 will not be paid out on the day and will be paid within 3-5 working days after the sale unless previous arrangements have been made with Magpie Auctions.) \nPLEASE CONTACT REGARDING DROPPING OFF YOUR DEADSTOCK LOTS. ALL LIVESTOCK/LOTS TO BE IN PLACE/PENNED BY 8:30AM AT THE LATEST. ALL AMMENDMENTS/CHANGES MUST BE WITH US BY 6PM ON SATURDAY EVENING BEFORE THE AUCTION AND NOT ON THE MORNING OF THE AUCTION. MAGPIE AUCTIONS RESERVE THE RIGHT TO REFUSE AMENDMENTS ON THE MORNING. ALL LIVESTOCK TO HAVE BEDDING & WATER WHICH IS PROVIDED. \nFor anymore Information about buying or selling please contact Marek on 07809 294390 or email magpieauctions@outlook.com.
URL:https://magpieauctions.co.uk/auction/dodge-city-monthly-auction-2-2-2-2/
LOCATION:Dodge City\, Yeovil Road\, Halstock\, Yeovil\, Dorset\, BA22 9RR\, United Kingdom
CATEGORIES:Dodge City,Monthly Auctions
ATTACH;FMTTYPE=image/jpeg:https://magpieauctions.co.uk/wp-content/uploads/2021/01/FB_IMG_1611041555542.jpg
ORGANIZER;CN="Magpie Auctions":MAILTO:magpieauctions@outlook.com
END:VEVENT
END:VCALENDAR