BEGIN:VCALENDAR
VERSION:2.0
PRODID:-//Magpie Auctions - ECPv6.9.1//NONSGML v1.0//EN
CALSCALE:GREGORIAN
METHOD:PUBLISH
X-WR-CALNAME:Magpie Auctions
X-ORIGINAL-URL:https://magpieauctions.co.uk
X-WR-CALDESC:Events for Magpie Auctions
REFRESH-INTERVAL;VALUE=DURATION:PT1H
X-Robots-Tag:noindex
X-PUBLISHED-TTL:PT1H
BEGIN:VTIMEZONE
TZID:Europe/London
BEGIN:DAYLIGHT
TZOFFSETFROM:+0000
TZOFFSETTO:+0100
TZNAME:BST
DTSTART:20210328T010000
END:DAYLIGHT
BEGIN:STANDARD
TZOFFSETFROM:+0100
TZOFFSETTO:+0000
TZNAME:GMT
DTSTART:20211031T010000
END:STANDARD
END:VTIMEZONE
BEGIN:VEVENT
DTSTART;TZID=Europe/London:20210606T100000
DTEND;TZID=Europe/London:20210606T170000
DTSTAMP:20260420T194042
CREATED:20210326T191306Z
LAST-MODIFIED:20210517T155428Z
UID:1763-1622973600-1622998800@magpieauctions.co.uk
SUMMARY:Magpie Auctions Monthly Auction @ Dodge City
DESCRIPTION:Magpie Auctions Poultry/Waterfowl\, Chicks/Ducklings\, Hatching Eggs\, Feed/Pet Items\, Plants/Fresh Produce\, Timber/Materials\, Tools\, Machinery/Implements\, Household/Garden Items And All Other Sundries/General Items Auction! \nAuctioneer Marek will start on the pet items/feed/inside Deadstock at 10am and then at 11am will go outside to start the Deadstock/Sundries! Auctioneer Andrew will start on the Chicks/Ducklings at 10:15am and then will sell them poultry/waterfowl and finish on the hatching eggs! \nThe fantastic “Dorset Grill” will be providing you with lovely hot and cold food and drinks they have on offer. \nMAGPIE-AUCTIONS-ENTRY-FORM \nPOULTRY DECLARATION FORM \nEntry deadline 30th May 2021 \nFEES: Buyers Commission: Free Registration\, 15% commission on the hammer which is capped at £500 per lot. \nSelling: £1.50 lotting fee per lot\, 18% Commission on the hammer which is capped at £500 per lot. (Please note that any sellers with a pay out of more than £300 will not be paid out on the day and will be paid within 3-5 working days after the sale unless previous arrangements have been made with Magpie Auctions.) \nFor anymore Information about buying or selling please contact Marek on 07809 294390 or email magpieauctions@outlook.com.
URL:https://magpieauctions.co.uk/auction/dodge-city-monthly-auction-2/
LOCATION:Dodge City\, Yeovil Road\, Halstock\, Yeovil\, Dorset\, BA22 9RR\, United Kingdom
CATEGORIES:Dodge City,Monthly Auctions
ATTACH;FMTTYPE=image/jpeg:https://magpieauctions.co.uk/wp-content/uploads/2021/01/FB_IMG_1611041555542.jpg
ORGANIZER;CN="Magpie Auctions":MAILTO:magpieauctions@outlook.com
END:VEVENT
BEGIN:VEVENT
DTSTART;TZID=Europe/London:20210619T100000
DTEND;TZID=Europe/London:20210619T170000
DTSTAMP:20260420T194042
CREATED:20210225T154749Z
LAST-MODIFIED:20210311T165512Z
UID:1729-1624096800-1624122000@magpieauctions.co.uk
SUMMARY:Magpie Auctions Equine\, Tack/Harness\, Bygones & Carriage Auction
DESCRIPTION:Following the success of our four Equine Auctions in 2018 & 2019\, Magpie Auctions is pleased to announce its first Equine auction in 2021. Unfortunately we had to Cancel the Auction in November 2020 due to Covid. \nThe auction will consist of all Equestrian items including Tack\, Saddles\, Rugs\, Bridles\, Horse Health care\, Riding Clothing/Equipment\, Stable/Yard Items\, Trailers/Boxes\, Horse Drawn Vehicles/Carriages\, Fodder/Feed\, Driving Harness\, Unusual Equine Related Bygones/Collectables\, Pictures/Decor\, Hunting Items & More. \nThe fantastic “Dorset Grill” will be providing you with lovely hot and cold food and drinks they have on offer. \nAuction to commence at 10am with Trailers/Boxes & The Horse Drawn Vehicles/Carriages from 12 noon. \n**Auction to be held at Dodge City\, Yeovil Road\, Halstock\, Dorset\, BA22 9RR.** \nEntry Form: https://magpieauctions.co.uk/wp-content/uploads/2021/01/Magpie-Auctions-Equestrian-Auction-Entry-Form-1.doc \nEntry deadline 13th June 2021! \nIf you had lots booked into the November auction please resend your updated entries as these will not be carried over. \nFEES: Buyers Commission: Free Registration\, 15% commission on the hammer which is capped at £500 per lot. \nSelling: £1.50 lotting fee per lot\, 18% Commission on the hammer which is capped at £500 per lot. (Please note that any sellers with a pay out of more than £300 will not be paid out on the day and will be paid within 3-5 working days after the sale unless previous arrangements have been made with Magpie Auctions.) \nWe thank you for your continued support and look forward to some good auctions in 2021. \n👍🙂🐴
URL:https://magpieauctions.co.uk/auction/magpie-auctions-equine-tack-harness-bygones-carriage-auction/
LOCATION:Dodge City\, Yeovil Road\, Halstock\, Yeovil\, Dorset\, BA22 9RR\, United Kingdom
CATEGORIES:Dodge City,Equestrian, Tack, Bygones, & Carriage Auction
ATTACH;FMTTYPE=image/jpeg:https://magpieauctions.co.uk/wp-content/uploads/2018/02/magpie_auctions_equestian.jpg
ORGANIZER;CN="Magpie Auctions":MAILTO:magpieauctions@outlook.com
END:VEVENT
END:VCALENDAR